BEGIN:VCALENDAR
VERSION:2.0
PRODID:Melly - online lists for groups
NAME:Melly Online List
X-WR-CALNAME:Melly Online List
BEGIN:VTIMEZONE
TZID:UTC
BEGIN:STANDARD
DTSTART:20250527T160716
TZOFFSETFROM:+0000
TZOFFSETTO:+0000
END:STANDARD
END:VTIMEZONE
BEGIN:VEVENT
UID:https://melly.de/plan/4CJKMFWFGFJ3
DTSTAMP:20260221T160716Z
SUMMARY:👩🏻‍🤝‍🧑🏽Evangelisationstage mit Guntram Wurst und
  Alexander Hellmich v.Evangelisationsteam
DESCRIPTION:All info here 👉 https://melly.de/plan/4CJKMFWFGFJ3
LOCATION:08297 Zwönitz Matthes - Enderlein - Straße 1 Turnhalle der Grund
 schule
ORGANIZER;CN=EmK Zwönitz / Leitung: Marcel Zellweger:MAILTO:
DTSTART:20260704T173000Z
DTEND:20260710T110000Z
END:VEVENT
END:VCALENDAR